BEGIN:VCALENDAR
VERSION:2.0
PRODID:-//VS Spital am Pyhrn - ECPv6.15.13//NONSGML v1.0//EN
CALSCALE:GREGORIAN
METHOD:PUBLISH
X-WR-CALNAME:VS Spital am Pyhrn
X-ORIGINAL-URL:https://www.spitaler-volks.schule
X-WR-CALDESC:Veranstaltungen für VS Spital am Pyhrn
REFRESH-INTERVAL;VALUE=DURATION:PT1H
X-Robots-Tag:noindex
X-PUBLISHED-TTL:PT1H
BEGIN:VTIMEZONE
TZID:Europe/Vienna
BEGIN:DAYLIGHT
TZOFFSETFROM:+0100
TZOFFSETTO:+0200
TZNAME:CEST
DTSTART:20250330T010000
END:DAYLIGHT
BEGIN:STANDARD
TZOFFSETFROM:+0200
TZOFFSETTO:+0100
TZNAME:CET
DTSTART:20251026T010000
END:STANDARD
BEGIN:DAYLIGHT
TZOFFSETFROM:+0100
TZOFFSETTO:+0200
TZNAME:CEST
DTSTART:20260329T010000
END:DAYLIGHT
BEGIN:STANDARD
TZOFFSETFROM:+0200
TZOFFSETTO:+0100
TZNAME:CET
DTSTART:20261025T010000
END:STANDARD
BEGIN:DAYLIGHT
TZOFFSETFROM:+0100
TZOFFSETTO:+0200
TZNAME:CEST
DTSTART:20270328T010000
END:DAYLIGHT
BEGIN:STANDARD
TZOFFSETFROM:+0200
TZOFFSETTO:+0100
TZNAME:CET
DTSTART:20271031T010000
END:STANDARD
END:VTIMEZONE
BEGIN:VEVENT
DTSTART;VALUE=DATE:20260510
DTEND;VALUE=DATE:20260511
DTSTAMP:20260424T102109
CREATED:20200722T100500Z
LAST-MODIFIED:20250827T091408Z
UID:4966-1778371200-1778457599@www.spitaler-volks.schule
SUMMARY:Muttertag
DESCRIPTION:Der Muttertag ist ein Tag zu Ehren der Mütter.
URL:https://www.spitaler-volks.schule/event/muttertag/
ATTACH;FMTTYPE=image/jpeg:https://www.spitaler-volks.schule/wp-content/uploads/2020/07/heart-5081039_1920.jpg
END:VEVENT
BEGIN:VEVENT
DTSTART;VALUE=DATE:20260514
DTEND;VALUE=DATE:20260515
DTSTAMP:20260424T102109
CREATED:20170414T123506Z
LAST-MODIFIED:20250827T091259Z
UID:1283-1778716800-1778803199@www.spitaler-volks.schule
SUMMARY:Christi Himmelfahrt
DESCRIPTION:Christi Himmelfahrt bezeichnet im christlichen Glauben die Rückkehr Jesu Christi als Sohn Gottes zu seinem Vater in den Himmel.
URL:https://www.spitaler-volks.schule/event/christi-himmelfahrt/
CATEGORIES:gesetzlicher Feiertag
ATTACH;FMTTYPE=image/jpeg:https://www.spitaler-volks.schule/wp-content/uploads/2017/04/pfingsten.jpg
END:VEVENT
BEGIN:VEVENT
DTSTART;VALUE=DATE:20260523
DTEND;VALUE=DATE:20260526
DTSTAMP:20260424T102109
CREATED:20170411T131726Z
LAST-MODIFIED:20250827T091145Z
UID:1253-1779494400-1779753599@www.spitaler-volks.schule
SUMMARY:Pfingstferien
DESCRIPTION:Pfingstferien – schulfrei in allen Bundesländern.
URL:https://www.spitaler-volks.schule/event/pfingstferien/
CATEGORIES:Schulferien,schulfreie Tage
ATTACH;FMTTYPE=image/jpeg:https://www.spitaler-volks.schule/wp-content/uploads/2017/04/pfingsten01.jpeg
END:VEVENT
BEGIN:VEVENT
DTSTART;VALUE=DATE:20260604
DTEND;VALUE=DATE:20260605
DTSTAMP:20260424T102109
CREATED:20170425T204243Z
LAST-MODIFIED:20250814T091914Z
UID:1468-1780531200-1780617599@www.spitaler-volks.schule
SUMMARY:Fronleichnam
DESCRIPTION:Am zweiten Donnerstag nach Pfingsten begeht die katholische Kirche das Fronleichnamsfest\, auch „Hochfest des Leibes und Blutes Christi“ genannt. Im Mittelpunkt dieses Festes steht die Eucharistie\, d.h. die Gegenwart Jesu Christi in Brot und Wein.
URL:https://www.spitaler-volks.schule/event/fronleichnam/
CATEGORIES:gesetzlicher Feiertag
ATTACH;FMTTYPE=image/jpeg:https://www.spitaler-volks.schule/wp-content/uploads/2017/06/Monstranz_tn1.jpg
END:VEVENT
BEGIN:VEVENT
DTSTART;VALUE=DATE:20260614
DTEND;VALUE=DATE:20260615
DTSTAMP:20260424T102109
CREATED:20200722T101426Z
LAST-MODIFIED:20250827T090916Z
UID:4970-1781395200-1781481599@www.spitaler-volks.schule
SUMMARY:Vatertag
DESCRIPTION:In Österreich feiert man den Vatertag am zweiten Sonntag im Juni.
URL:https://www.spitaler-volks.schule/event/vatertag/
ATTACH;FMTTYPE=image/jpeg:https://www.spitaler-volks.schule/wp-content/uploads/2020/07/fathers-day-5177344_1920-e1595412834837.jpg
END:VEVENT
BEGIN:VEVENT
DTSTART;TZID=Europe/Vienna:20260710T080000
DTEND;TZID=Europe/Vienna:20260710T090000
DTSTAMP:20260424T102109
CREATED:20250618T172856Z
LAST-MODIFIED:20250814T091616Z
UID:10335-1783670400-1783674000@www.spitaler-volks.schule
SUMMARY:Schulschluss
DESCRIPTION:Der letzte Schultag beginnt mit dem Schlussgottesdienst.
URL:https://www.spitaler-volks.schule/event/schulschluss-2/
CATEGORIES:Schulgottesdienst
END:VEVENT
END:VCALENDAR