BEGIN:VCALENDAR
VERSION:2.0
PRODID:-//VS Spital am Pyhrn - ECPv6.15.13//NONSGML v1.0//EN
CALSCALE:GREGORIAN
METHOD:PUBLISH
X-WR-CALNAME:VS Spital am Pyhrn
X-ORIGINAL-URL:https://www.spitaler-volks.schule
X-WR-CALDESC:Veranstaltungen für VS Spital am Pyhrn
REFRESH-INTERVAL;VALUE=DURATION:PT1H
X-Robots-Tag:noindex
X-PUBLISHED-TTL:PT1H
BEGIN:VTIMEZONE
TZID:Europe/Vienna
BEGIN:DAYLIGHT
TZOFFSETFROM:+0100
TZOFFSETTO:+0200
TZNAME:CEST
DTSTART:20240331T010000
END:DAYLIGHT
BEGIN:STANDARD
TZOFFSETFROM:+0200
TZOFFSETTO:+0100
TZNAME:CET
DTSTART:20241027T010000
END:STANDARD
BEGIN:DAYLIGHT
TZOFFSETFROM:+0100
TZOFFSETTO:+0200
TZNAME:CEST
DTSTART:20250330T010000
END:DAYLIGHT
BEGIN:STANDARD
TZOFFSETFROM:+0200
TZOFFSETTO:+0100
TZNAME:CET
DTSTART:20251026T010000
END:STANDARD
BEGIN:DAYLIGHT
TZOFFSETFROM:+0100
TZOFFSETTO:+0200
TZNAME:CEST
DTSTART:20260329T010000
END:DAYLIGHT
BEGIN:STANDARD
TZOFFSETFROM:+0200
TZOFFSETTO:+0100
TZNAME:CET
DTSTART:20261025T010000
END:STANDARD
BEGIN:DAYLIGHT
TZOFFSETFROM:+0100
TZOFFSETTO:+0200
TZNAME:CEST
DTSTART:20270328T010000
END:DAYLIGHT
BEGIN:STANDARD
TZOFFSETFROM:+0200
TZOFFSETTO:+0100
TZNAME:CET
DTSTART:20271031T010000
END:STANDARD
END:VTIMEZONE
BEGIN:VEVENT
DTSTART;VALUE=DATE:20251206
DTEND;VALUE=DATE:20251207
DTSTAMP:20260424T144430
CREATED:20170910T104025Z
LAST-MODIFIED:20250827T100639Z
UID:2447-1764979200-1765065599@www.spitaler-volks.schule
SUMMARY:Hl. Nikolaus
DESCRIPTION:Nikolaus von Myra\nist einer der bekanntesten Heiligen der lateinischen Kirche. Sein Gedenktag\, der 6. Dezember\, wird im gesamten Christentum mit zahlreichen Volksbräuchen begangen.
URL:https://www.spitaler-volks.schule/event/hl-nikolaus/
ATTACH;FMTTYPE=image/jpeg:https://www.spitaler-volks.schule/wp-content/uploads/2017/09/NikolausMyra_Kornwunder-e1505039945962.jpg
END:VEVENT
BEGIN:VEVENT
DTSTART;VALUE=DATE:20251207
DTEND;VALUE=DATE:20251208
DTSTAMP:20260424T144430
CREATED:20170910T122250Z
LAST-MODIFIED:20250827T100241Z
UID:2480-1765065600-1765151999@www.spitaler-volks.schule
SUMMARY:2. Advent
DESCRIPTION:2. Advent\nPopulus Sion (Populus Sion\, ecce Dominus veniet ad salvandas gentes: „Volk von Zion\, siehe\, der Herr wird kommen\, zu retten die Völker“\, Jes 30\,19.30 EU) \nQuelle:wikipedia
URL:https://www.spitaler-volks.schule/event/2-advent/
ATTACH;FMTTYPE=image/jpeg:https://www.spitaler-volks.schule/wp-content/uploads/2017/09/2.Advent.jpg
END:VEVENT
BEGIN:VEVENT
DTSTART;VALUE=DATE:20251208
DTEND;VALUE=DATE:20251209
DTSTAMP:20260424T144430
CREATED:20170622T203855Z
LAST-MODIFIED:20250827T100422Z
UID:2184-1765152000-1765238399@www.spitaler-volks.schule
SUMMARY:Mariä Empfängnis
DESCRIPTION:Mariä Empfängnis ist ein Fest der katholischen Kirche und findet jedes Jahr am 08.Dezember statt.
URL:https://www.spitaler-volks.schule/event/mariae-empfaengnis/
CATEGORIES:gesetzlicher Feiertag
ATTACH;FMTTYPE=image/jpeg:https://www.spitaler-volks.schule/wp-content/uploads/2017/06/Maria-Empfängnis.jpg
END:VEVENT
BEGIN:VEVENT
DTSTART;TZID=Europe/Vienna:20251208T093000
DTEND;TZID=Europe/Vienna:20251208T180000
DTSTAMP:20260424T144430
CREATED:20241022T103226Z
LAST-MODIFIED:20250827T100039Z
UID:9030-1765186200-1765216800@www.spitaler-volks.schule
SUMMARY:Adventmarkt
DESCRIPTION:Die Volksschule ist wieder auf dem Adventmarkt Spital am Pyhrn im Stifts-Innenhof vertreten und lädt herzlich zu einem Besuch ein!
URL:https://www.spitaler-volks.schule/event/adventmarkt-2/
END:VEVENT
BEGIN:VEVENT
DTSTART;VALUE=DATE:20251214
DTEND;VALUE=DATE:20251215
DTSTAMP:20260424T144430
CREATED:20170910T122717Z
LAST-MODIFIED:20250827T095826Z
UID:2484-1765670400-1765756799@www.spitaler-volks.schule
SUMMARY:3. Advent
DESCRIPTION:3. Advent\nGaudete (Gaudete in Domino semper: „Freut euch im Herrn allezeit“\, Phil 4\,4 EU)\nQuelle.wikipedia
URL:https://www.spitaler-volks.schule/event/3-advent/
ATTACH;FMTTYPE=image/jpeg:https://www.spitaler-volks.schule/wp-content/uploads/2017/09/3.-Advent-e1505045570259.jpg
END:VEVENT
BEGIN:VEVENT
DTSTART;VALUE=DATE:20251221
DTEND;VALUE=DATE:20251222
DTSTAMP:20260424T144430
CREATED:20170910T123532Z
LAST-MODIFIED:20250827T095700Z
UID:2486-1766275200-1766361599@www.spitaler-volks.schule
SUMMARY:4. Advent
DESCRIPTION:[vc_row][vc_column][vc_column_text css=““] \n4. Advent\n[/vc_column_text][/vc_column][/vc_row]
URL:https://www.spitaler-volks.schule/event/4-advent/
ATTACH;FMTTYPE=image/jpeg:https://www.spitaler-volks.schule/wp-content/uploads/2017/09/4.-Advent-e1505045633893.jpg
END:VEVENT
BEGIN:VEVENT
DTSTART;VALUE=DATE:20251224
DTEND;VALUE=DATE:20260107
DTSTAMP:20260424T144430
CREATED:20170619T201810Z
LAST-MODIFIED:20250827T095414Z
UID:2136-1766534400-1767743999@www.spitaler-volks.schule
SUMMARY:Weihnachtsferien
DESCRIPTION:[vc_row][vc_column][vc_column_text css=““]Schon im Mittelalter waren die Ferientage der Kirche gewidmet\, da kirchliche Feiertage wie Weihnachten die einzigen freien Tage des Jahres darstellten.[/vc_column_text][/vc_column][/vc_row]
URL:https://www.spitaler-volks.schule/event/weihnachtsferien/
CATEGORIES:Schulferien
ATTACH;FMTTYPE=image/jpeg:https://www.spitaler-volks.schule/wp-content/uploads/2017/06/9.jpg
END:VEVENT
BEGIN:VEVENT
DTSTART;VALUE=DATE:20251224
DTEND;VALUE=DATE:20251225
DTSTAMP:20260424T144430
CREATED:20170910T105558Z
LAST-MODIFIED:20250827T095002Z
UID:2452-1766534400-1766620799@www.spitaler-volks.schule
SUMMARY:Hl.Abend
DESCRIPTION:Der Heilige Abend\nAls Heiligabend wird der Vorabend des Weihnachtsfestes bezeichnet. Am Abend findet in Österreich traditionell die Bescherung statt. Als Heilige Nacht oder als Christnacht wird die Nacht vom 24. auf den 25. Dezember bezeichnet.
URL:https://www.spitaler-volks.schule/event/hl-abend/
CATEGORIES:schulfreie Tage
ATTACH;FMTTYPE=image/jpeg:https://www.spitaler-volks.schule/wp-content/uploads/2017/09/jesus-in-der-krippe.jpg
END:VEVENT
BEGIN:VEVENT
DTSTART;VALUE=DATE:20251225
DTEND;VALUE=DATE:20251226
DTSTAMP:20260424T144430
CREATED:20240810T113239Z
LAST-MODIFIED:20250827T094816Z
UID:2467-1766620800-1766707199@www.spitaler-volks.schule
SUMMARY:Christtag
DESCRIPTION:Christtag\nChristtag – „Hochfest der Geburt des Herrn“ – am 25. Dezember
URL:https://www.spitaler-volks.schule/event/christtag/
CATEGORIES:gesetzlicher Feiertag
END:VEVENT
BEGIN:VEVENT
DTSTART;VALUE=DATE:20251226
DTEND;VALUE=DATE:20251227
DTSTAMP:20260424T144430
CREATED:20170910T113633Z
LAST-MODIFIED:20250827T094605Z
UID:2469-1766707200-1766793599@www.spitaler-volks.schule
SUMMARY:Stefanitag
DESCRIPTION:Stefanitag\nStephanietag . am 26. Dezember \nStephanus war Diakon einer urchristlichen Gemeinde in Jerusalem.\nEr gilt als geistiger Vorläufer des Apostel Paulus.
URL:https://www.spitaler-volks.schule/event/stefanitag/
CATEGORIES:gesetzlicher Feiertag
END:VEVENT
BEGIN:VEVENT
DTSTART;VALUE=DATE:20251231
DTEND;VALUE=DATE:20260101
DTSTAMP:20260424T144430
CREATED:20170910T110401Z
LAST-MODIFIED:20250827T094417Z
UID:2455-1767139200-1767225599@www.spitaler-volks.schule
SUMMARY:Silvester
DESCRIPTION:Silvester\nAls Silvester wird in einigen europäischen Sprachen der 31. Dezember\, der letzte Tag des Jahres im westlichen Kulturraum\, bezeichnet.
URL:https://www.spitaler-volks.schule/event/silvester/
ATTACH;FMTTYPE=image/jpeg:https://www.spitaler-volks.schule/wp-content/uploads/2017/09/Silvester.jpg
END:VEVENT
END:VCALENDAR